BEGIN:VCALENDAR
VERSION:2.0
PRODID:spatie/icalendar-generator
DESCRIPTION:Events from beantvidyabhawan.com
X-WR-CALDESC:Events from beantvidyabhawan.com
REFRESH-INTERVAL;VALUE=DURATION:PT1440M
X-PUBLISHED-TTL:PT1440M
BEGIN:VTIMEZONE
TZID:Etc/GMT+0
BEGIN:STANDARD
DTSTART:20240617T000000Z
TZOFFSETFROM:+0000
TZOFFSETTO:+0000
END:STANDARD
END:VTIMEZONE
BEGIN:VTIMEZONE
TZID:UTC
BEGIN:STANDARD
DTSTART:20250729T181200Z
TZOFFSETFROM:+0000
TZOFFSETTO:+0000
END:STANDARD
END:VTIMEZONE
BEGIN:VEVENT
UID:2-2
DTSTAMP:20260425T181200Z
SUMMARY:Holi
LOCATION:
ORGANIZER;CN=msingh3939@gmail.com:MAILTO:msingh3939@gmail.com
DTSTART;TZID=Etc/GMT+0;VALUE=DATE:20250314
DTEND;TZID=Etc/GMT+0;VALUE=DATE:20250315
X-ALT-DESC;FMTTYPE=TEXT/HTML:
CATEGORIES:General
URL;VALUE=URI:https://beantvidyabhawan.com/mc-events/holi/?mc_id=2
END:VEVENT
END:VCALENDAR